BEGIN:VCALENDAR
PRODID:-//github.com/rianjs/ical.net//NONSGML ical.net 4.0//EN
VERSION:2.0
BEGIN:VEVENT
DESCRIPTION:Inneklemt dag
DTEND:20260515T235959
DTSTAMP:20260423T194205Z
DTSTART;VALUE=DATE:20260515
SEQUENCE:0
SUMMARY:Inneklemt dag
UID:718126ee-282b-43d7-9f8f-dc720fee1afa
END:VEVENT
END:VCALENDAR
